{
 "currentVersion": 11.5,
 "cimVersion": "3.5.0",
 "serviceDescription": "",
 "mapName": "Layers",
 "description": "",
 "copyrightText": "",
 "supportsDynamicLayers": false,
 "layers": [
  {
   "id": 0,
   "name": "CassBasemap1",
   "parentLayerId": -1,
   "defaultVisibility": true,
   "subLayerIds": [
    1,
    3,
    4,
    5,
    6,
    7,
    8,
    9,
    10,
    12,
    13
   ],
   "minScale": 0,
   "maxScale": 150462.7914792115,
   "type": "Group Layer",
   "supportsDynamicLegends": false
  },
  {
   "id": 1,
   "name": "City Labels",
   "parentLayerId": 0,
   "defaultVisibility": true,
   "subLayerIds": [
    2
   ],
   "minScale": 0,
   "maxScale": 0,
   "type": "Annotation Layer",
   "geometryType": "esriGeometryPolygon",
   "supportsDynamicLegends": false
  },
  {
   "id": 2,
   "name": "Annotation Class 1",
   "parentLayerId": 1,
   "defaultVisibility": true,
   "subLayerIds": null,
   "minScale": 0,
   "maxScale": 0,
   "supportsDynamicLegends": false
  },
  {
   "id": 3,
   "name": "Villages",
   "parentLayerId": 0,
   "defaultVisibility": true,
   "subLayerIds": null,
   "minScale": 0,
   "maxScale": 0,
   "type": "Feature Layer",
   "geometryType": "esriGeometryPoint",
   "supportsDynamicLegends": true
  },
  {
   "id": 4,
   "name": "Highway Shields",
   "parentLayerId": 0,
   "defaultVisibility": true,
   "subLayerIds": null,
   "minScale": 0,
   "maxScale": 0,
   "type": "Feature Layer",
   "geometryType": "esriGeometryPoint",
   "supportsDynamicLegends": true
  },
  {
   "id": 5,
   "name": "County Roads",
   "parentLayerId": 0,
   "defaultVisibility": true,
   "subLayerIds": null,
   "minScale": 0,
   "maxScale": 0,
   "type": "Feature Layer",
   "geometryType": "esriGeometryPolyline",
   "supportsDynamicLegends": true
  },
  {
   "id": 6,
   "name": "Inter-State/State Hwys",
   "parentLayerId": 0,
   "defaultVisibility": true,
   "subLayerIds": null,
   "minScale": 0,
   "maxScale": 0,
   "type": "Feature Layer",
   "geometryType": "esriGeometryPolyline",
   "supportsDynamicLegends": true
  },
  {
   "id": 7,
   "name": "City Limits",
   "parentLayerId": 0,
   "defaultVisibility": true,
   "subLayerIds": null,
   "minScale": 0,
   "maxScale": 0,
   "type": "Feature Layer",
   "geometryType": "esriGeometryPolygon",
   "supportsDynamicLegends": true
  },
  {
   "id": 8,
   "name": "Lakes",
   "parentLayerId": 0,
   "defaultVisibility": true,
   "subLayerIds": null,
   "minScale": 0,
   "maxScale": 16812,
   "type": "Feature Layer",
   "geometryType": "esriGeometryPolygon",
   "supportsDynamicLegends": true
  },
  {
   "id": 9,
   "name": "Rivers",
   "parentLayerId": 0,
   "defaultVisibility": true,
   "subLayerIds": null,
   "minScale": 0,
   "maxScale": 0,
   "type": "Feature Layer",
   "geometryType": "esriGeometryPolyline",
   "supportsDynamicLegends": true
  },
  {
   "id": 10,
   "name": "Township_Anno",
   "parentLayerId": 0,
   "defaultVisibility": true,
   "subLayerIds": [
    11
   ],
   "minScale": 0,
   "maxScale": 0,
   "type": "Annotation Layer",
   "geometryType": "esriGeometryPolygon",
   "supportsDynamicLegends": false
  },
  {
   "id": 11,
   "name": "Annotation Class 1",
   "parentLayerId": 10,
   "defaultVisibility": true,
   "subLayerIds": null,
   "minScale": 0,
   "maxScale": 71000,
   "supportsDynamicLegends": false
  },
  {
   "id": 12,
   "name": "Townships",
   "parentLayerId": 0,
   "defaultVisibility": true,
   "subLayerIds": null,
   "minScale": 0,
   "maxScale": 0,
   "type": "Feature Layer",
   "geometryType": "esriGeometryPolygon",
   "supportsDynamicLegends": true
  },
  {
   "id": 13,
   "name": "County Boundary",
   "parentLayerId": 0,
   "defaultVisibility": true,
   "subLayerIds": null,
   "minScale": 0,
   "maxScale": 0,
   "type": "Feature Layer",
   "geometryType": "esriGeometryPolygon",
   "supportsDynamicLegends": true
  },
  {
   "id": 14,
   "name": "CassBasemap2",
   "parentLayerId": -1,
   "defaultVisibility": true,
   "subLayerIds": [
    15,
    16,
    17,
    18,
    19,
    20,
    21,
    22,
    28,
    29
   ],
   "minScale": 151000,
   "maxScale": 20000,
   "type": "Group Layer",
   "supportsDynamicLegends": false
  },
  {
   "id": 15,
   "name": "Highway Shields",
   "parentLayerId": 14,
   "defaultVisibility": true,
   "subLayerIds": null,
   "minScale": 0,
   "maxScale": 0,
   "type": "Feature Layer",
   "geometryType": "esriGeometryPoint",
   "supportsDynamicLegends": true
  },
  {
   "id": 16,
   "name": "Inter-State/State Hwys",
   "parentLayerId": 14,
   "defaultVisibility": true,
   "subLayerIds": null,
   "minScale": 0,
   "maxScale": 0,
   "type": "Feature Layer",
   "geometryType": "esriGeometryPolyline",
   "supportsDynamicLegends": true
  },
  {
   "id": 17,
   "name": "Township Roads",
   "parentLayerId": 14,
   "defaultVisibility": true,
   "subLayerIds": null,
   "minScale": 0,
   "maxScale": 0,
   "type": "Feature Layer",
   "geometryType": "esriGeometryPolyline",
   "supportsDynamicLegends": true
  },
  {
   "id": 18,
   "name": "County Roads",
   "parentLayerId": 14,
   "defaultVisibility": true,
   "subLayerIds": null,
   "minScale": 0,
   "maxScale": 0,
   "type": "Feature Layer",
   "geometryType": "esriGeometryPolyline",
   "supportsDynamicLegends": true
  },
  {
   "id": 19,
   "name": "Muni Centerlines",
   "parentLayerId": 14,
   "defaultVisibility": true,
   "subLayerIds": null,
   "minScale": 0,
   "maxScale": 0,
   "type": "Feature Layer",
   "geometryType": "esriGeometryPolyline",
   "supportsDynamicLegends": true
  },
  {
   "id": 20,
   "name": "Rivers",
   "parentLayerId": 14,
   "defaultVisibility": true,
   "subLayerIds": null,
   "minScale": 0,
   "maxScale": 0,
   "type": "Feature Layer",
   "geometryType": "esriGeometryPolyline",
   "supportsDynamicLegends": true
  },
  {
   "id": 21,
   "name": "City Limits",
   "parentLayerId": 14,
   "defaultVisibility": true,
   "subLayerIds": null,
   "minScale": 0,
   "maxScale": 0,
   "type": "Feature Layer",
   "geometryType": "esriGeometryPolygon",
   "supportsDynamicLegends": true
  },
  {
   "id": 22,
   "name": "Section Anno",
   "parentLayerId": 14,
   "defaultVisibility": true,
   "subLayerIds": [
    23,
    24,
    25,
    26,
    27
   ],
   "minScale": 0,
   "maxScale": 0,
   "type": "Annotation Layer",
   "geometryType": "esriGeometryPolygon",
   "supportsDynamicLegends": false
  },
  {
   "id": 23,
   "name": "Annotation Class 1",
   "parentLayerId": 22,
   "defaultVisibility": true,
   "subLayerIds": null,
   "minScale": 0,
   "maxScale": 0,
   "supportsDynamicLegends": false
  },
  {
   "id": 24,
   "name": "BNDRY_TXT_QQNUM",
   "parentLayerId": 22,
   "defaultVisibility": true,
   "subLayerIds": null,
   "minScale": 0,
   "maxScale": 0,
   "supportsDynamicLegends": false
  },
  {
   "id": 25,
   "name": "BNDRY_TXT_SECT",
   "parentLayerId": 22,
   "defaultVisibility": true,
   "subLayerIds": null,
   "minScale": 0,
   "maxScale": 0,
   "supportsDynamicLegends": false
  },
  {
   "id": 26,
   "name": "TWP_NAME",
   "parentLayerId": 22,
   "defaultVisibility": true,
   "subLayerIds": null,
   "minScale": 0,
   "maxScale": 0,
   "supportsDynamicLegends": false
  },
  {
   "id": 27,
   "name": "TWP_RANGE",
   "parentLayerId": 22,
   "defaultVisibility": true,
   "subLayerIds": null,
   "minScale": 0,
   "maxScale": 0,
   "supportsDynamicLegends": false
  },
  {
   "id": 28,
   "name": "Sections",
   "parentLayerId": 14,
   "defaultVisibility": true,
   "subLayerIds": null,
   "minScale": 0,
   "maxScale": 0,
   "type": "Feature Layer",
   "geometryType": "esriGeometryPolygon",
   "supportsDynamicLegends": true
  },
  {
   "id": 29,
   "name": "Townships",
   "parentLayerId": 14,
   "defaultVisibility": true,
   "subLayerIds": null,
   "minScale": 0,
   "maxScale": 0,
   "type": "Feature Layer",
   "geometryType": "esriGeometryPolygon",
   "supportsDynamicLegends": true
  },
  {
   "id": 30,
   "name": "CassBaseMap3",
   "parentLayerId": -1,
   "defaultVisibility": true,
   "subLayerIds": [
    31,
    32,
    33,
    34,
    35,
    36
   ],
   "minScale": 19900,
   "maxScale": 0,
   "type": "Group Layer",
   "supportsDynamicLegends": false
  },
  {
   "id": 31,
   "name": "Highway Shields",
   "parentLayerId": 30,
   "defaultVisibility": true,
   "subLayerIds": null,
   "minScale": 0,
   "maxScale": 0,
   "type": "Feature Layer",
   "geometryType": "esriGeometryPoint",
   "supportsDynamicLegends": true
  },
  {
   "id": 32,
   "name": "Inter-State/State Hwys",
   "parentLayerId": 30,
   "defaultVisibility": true,
   "subLayerIds": null,
   "minScale": 0,
   "maxScale": 0,
   "type": "Feature Layer",
   "geometryType": "esriGeometryPolyline",
   "supportsDynamicLegends": true
  },
  {
   "id": 33,
   "name": "Muni Centerlines",
   "parentLayerId": 30,
   "defaultVisibility": true,
   "subLayerIds": null,
   "minScale": 0,
   "maxScale": 0,
   "type": "Feature Layer",
   "geometryType": "esriGeometryPolyline",
   "supportsDynamicLegends": true
  },
  {
   "id": 34,
   "name": "County Centerlines",
   "parentLayerId": 30,
   "defaultVisibility": true,
   "subLayerIds": null,
   "minScale": 0,
   "maxScale": 0,
   "type": "Feature Layer",
   "geometryType": "esriGeometryPolyline",
   "supportsDynamicLegends": true
  },
  {
   "id": 35,
   "name": "Township Centerlines",
   "parentLayerId": 30,
   "defaultVisibility": true,
   "subLayerIds": null,
   "minScale": 0,
   "maxScale": 0,
   "type": "Feature Layer",
   "geometryType": "esriGeometryPolyline",
   "supportsDynamicLegends": true
  },
  {
   "id": 36,
   "name": "Parks",
   "parentLayerId": 30,
   "defaultVisibility": true,
   "subLayerIds": null,
   "minScale": 0,
   "maxScale": 0,
   "type": "Feature Layer",
   "geometryType": "esriGeometryPolygon",
   "supportsDynamicLegends": true
  }
 ],
 "tables": [],
 "spatialReference": {
  "wkid": 102721,
  "latestWkid": 102721,
  "xyTolerance": 0.002,
  "zTolerance": 2,
  "mTolerance": 2,
  "falseX": -117105100,
  "falseY": -98987300,
  "xyUnits": 3.782198260042944E7,
  "falseZ": 0,
  "zUnits": 1,
  "falseM": -100000,
  "mUnits": 10000
 },
 "singleFusedMapCache": true,
 "tileInfo": {
  "rows": 256,
  "cols": 256,
  "dpi": 96,
  "format": "PNG32",
  "compressionQuality": 0,
  "origin": {
   "x": -117105100,
   "y": 139159900
  },
  "spatialReference": {
   "wkid": 102721,
   "latestWkid": 102721,
   "xyTolerance": 0.002,
   "zTolerance": 2.0E-5,
   "mTolerance": 0.001,
   "falseX": -117105100,
   "falseY": -98987300,
   "xyUnits": 3.782198260042944E7,
   "falseZ": 0,
   "zUnits": 400000,
   "falseM": -100000,
   "mUnits": 10000
  },
  "lods": [
   {
    "level": 0,
    "resolution": 520.8333333333333,
    "scale": 600000
   },
   {
    "level": 1,
    "resolution": 260.41666666666663,
    "scale": 300000
   },
   {
    "level": 2,
    "resolution": 130.20833333333331,
    "scale": 150000
   },
   {
    "level": 3,
    "resolution": 86.80555555555556,
    "scale": 100000
   },
   {
    "level": 4,
    "resolution": 43.40277777777778,
    "scale": 50000
   },
   {
    "level": 5,
    "resolution": 27.777777777777775,
    "scale": 32000
   },
   {
    "level": 6,
    "resolution": 13.888888888888888,
    "scale": 16000
   },
   {
    "level": 7,
    "resolution": 6.944444444444444,
    "scale": 8000
   },
   {
    "level": 8,
    "resolution": 3.472222222222222,
    "scale": 4000
   },
   {
    "level": 9,
    "resolution": 1.736111111111111,
    "scale": 2000
   },
   {
    "level": 10,
    "resolution": 0.8680555555555555,
    "scale": 1000
   },
   {
    "level": 11,
    "resolution": 0.43402777777777773,
    "scale": 500
   }
  ]
 },
 "storageInfo": {
  "storageFormat": "esriMapCacheStorageModeCompact",
  "packetSize": 128
 },
 "initialExtent": {
  "xmin": 2697404.5578815723,
  "ymin": 408237.44552008057,
  "xmax": 2875327.0470397817,
  "ymax": 549789.9824799228,
  "spatialReference": {
   "wkid": 102721,
   "latestWkid": 102721,
   "xyTolerance": 0.002,
   "zTolerance": 2,
   "mTolerance": 2,
   "falseX": -117105100,
   "falseY": -98987300,
   "xyUnits": 3.782198260042944E7,
   "falseZ": 0,
   "zUnits": 1,
   "falseM": -100000,
   "mUnits": 10000
  }
 },
 "fullExtent": {
  "xmin": 2662356.3920000046,
  "ymin": 363868.5567499995,
  "xmax": 2904738.064750001,
  "ymax": 594158.8712500036,
  "spatialReference": {
   "wkid": 102721,
   "latestWkid": 102721,
   "xyTolerance": 0.002,
   "zTolerance": 2,
   "mTolerance": 2,
   "falseX": -117105100,
   "falseY": -98987300,
   "xyUnits": 3.782198260042944E7,
   "falseZ": 0,
   "zUnits": 1,
   "falseM": -100000,
   "mUnits": 10000
  }
 },
 "datesInUnknownTimezone": false,
 "minScale": 600000,
 "maxScale": 500,
 "units": "esriFeet",
 "supportedImageFormatTypes": "PNG32,PNG24,PNG,JPG,DIB,TIFF,EMF,PS,PDF,GIF,SVG,SVGZ,BMP",
 "documentInfo": {
  "Title": "CassNDWebFusionPublic",
  "Author": "",
  "Comments": "",
  "Subject": "",
  "Category": "",
  "Version": "2.7.0",
  "AntialiasingMode": "None",
  "TextAntialiasingMode": "Force",
  "Keywords": "PublicBasemap,MapServer"
 },
 "supportsQueryDomains": true,
 "capabilities": "Map,Query,Data",
 "supportedQueryFormats": "JSON, geoJSON, PBF",
 "exportTilesAllowed": false,
 "referenceScale": 0.0,
 "datumTransformations": [
  {
   "geoTransforms": [
    {
     "wkid": 108001,
     "latestWkid": 1241,
     "transformForward": true,
     "name": "NAD_1927_To_NAD_1983_NADCON"
    }
   ]
  },
  {
   "geoTransforms": [
    {
     "wkid": 108001,
     "latestWkid": 1241,
     "transformForward": false,
     "name": "NAD_1927_To_NAD_1983_NADCON"
    }
   ]
  }
 ],
 "supportsDatumTransformation": true,
 "archivingInfo": {
  "supportsHistoricMoment": false
 },
 "supportsClipping": true,
 "supportsSpatialFilter": true,
 "supportsTimeRelation": true,
 "supportsQueryDataElements": true,
 "mapUnits": {
  "uwkid": 9003
 },
 "maxSelectionCount": 2000,
 "maxRecordCount": 1000,
 "maxImageHeight": 4096,
 "maxImageWidth": 4096,
 "supportedExtensions": "",
 "serviceItemId": "3ad98c12dd794cad8325dd032806943f"
}
